BEGIN:VCALENDAR
VERSION:2.0
PRODID:-//wp-events-plugin.com//5.62//EN
BEGIN:VEVENT
UID:f2ad83a3-a409-4176-a3f8-44096c22527e
DTSTART:20170910T230000Z
DTEND:20180512T230000Z
DTSTAMP:20170911T092048Z
SUMMARY:Barclays Premier League -  - 11/09/2017 - 13/05/2018 - 12:00 am
DESCRIPTION:Tailor made corporate trips for the Barclays Premier League 2015/16
LOCATION:
URL:http://cslhospitality.ie/events/barclays-premier-league-2013-2014/
END:VEVENT
END:VCALENDAR