BEGIN:VCALENDAR
VERSION:2.0
PRODID:-//wp-events-plugin.com//5.62//EN
BEGIN:VEVENT
UID:b1a8dc45-ce75-4617-bf62-39cd69fd01e8
DTSTART;VALUE=DATE:20180623
DTEND;VALUE=DATE:20180624
DTSTAMP:20171023T153816Z
SUMMARY:Billy Joel - Aviva Stadium - 23/06/2018 - All Day
DESCRIPTION:CSL are delighted to offer you Official Hospitality for Billy Joel at the Aviva Stadium. 
LOCATION:Aviva Stadium
URL:http://cslhospitality.ie/events/billy-joel/
END:VEVENT
END:VCALENDAR