BEGIN:VCALENDAR
VERSION:2.0
PRODID:-//wp-events-plugin.com//5.62//EN
BEGIN:VEVENT
UID:325d7dc9-7050-4b23-9e22-09fea0424031
DTSTART;VALUE=DATE:20180705
DTEND;VALUE=DATE:20180709
DTSTAMP:20171024T093320Z
SUMMARY:The Dubai Duty Free Irish Open 2018 - Ballyliffin Golf Club - 05/07/2018 - 08/07/2018 - All Day
DESCRIPTION:Official Hospitality details to be announced soon! 
LOCATION:Ballyliffin Golf Club
URL:http://cslhospitality.ie/events/the-dubai-duty-free-irish-open-2017/
END:VEVENT
END:VCALENDAR